BEGIN:VCALENDAR
VERSION:2.0
PRODID:-//ChamberMaster//Event Calendar 2.0//EN
METHOD:PUBLISH
X-PUBLISHED-TTL:P1H
REFRESH-INTERVAL:P1H
CALSCALE:GREGORIAN
BEGIN:VTIMEZONE
TZID:America/Los_Angeles
BEGIN:DAYLIGHT
RRULE:FREQ=YEARLY;BYMONTH=3;BYDAY=2SU
DTSTART:20070101T000000
TZOFFSETFROM:-0800
TZOFFSETTO:-0700
TZNAME:Pacific Daylight Time
END:DAYLIGHT
BEGIN:STANDARD
RRULE:FREQ=YEARLY;BYMONTH=11;BYDAY=1SU
DTSTART:20070101T000000
TZOFFSETFROM:-0700
TZOFFSETTO:-0800
TZNAME:Pacific Standard Time
END:STANDARD
END:VTIMEZONE
BEGIN:VEVENT
DTSTART;TZID=America/Los_Angeles:20260429T160000
DTEND;TZID=America/Los_Angeles:20260429T180000
X-MICROSOFT-CDO-ALLDAYEVENT:FALSE
SUMMARY:Walk Thru Plans Portland Ribbon Cutting
DESCRIPTION:Walk Thru Plans Portland is excited to welcome fellow Chamber members to their grand opening celebration at 12518 NE Airport Way.\n\nPlease join us at the Chamber to welcome them to their new Portland home.\n\nNo registration is required. We hope to see you there!
X-ALT-DESC;FMTTYPE=text/html:Walk Thru Plans Portland is excited to welcome fellow Chamber members to their grand opening celebration at 12518 NE Airport Way.\n\nPlease join us at the Chamber to welcome them to their new Portland home.\n\nNo registration is required. We hope to see you there!
LOCATION:12518 NE Airport way #140 Portland OR 97230
UID:e.2009.1442577
SEQUENCE:3
DTSTAMP:20260422T222113Z
URL:https://community.portlandalliance.com/events/Details/walk-thru-plans-portland-ribbon-cutting-1708618?sourceTypeId=Hub
END:VEVENT
END:VCALENDAR
