BEGIN:VCALENDAR
VERSION:2.0
PRODID:-//ChamberMaster//Event Calendar 2.0//EN
METHOD:PUBLISH
X-PUBLISHED-TTL:P1H
REFRESH-INTERVAL:P1H
CALSCALE:GREGORIAN
BEGIN:VTIMEZONE
TZID:America/Los_Angeles
BEGIN:DAYLIGHT
RRULE:FREQ=YEARLY;BYMONTH=3;BYDAY=2SU
DTSTART:20070101T000000
TZOFFSETFROM:-0800
TZOFFSETTO:-0700
TZNAME:Pacific Daylight Time
END:DAYLIGHT
BEGIN:STANDARD
RRULE:FREQ=YEARLY;BYMONTH=11;BYDAY=1SU
DTSTART:20070101T000000
TZOFFSETFROM:-0700
TZOFFSETTO:-0800
TZNAME:Pacific Standard Time
END:STANDARD
END:VTIMEZONE
BEGIN:VEVENT
DTSTART;TZID=America/Los_Angeles:20250912T100000
DTEND;TZID=America/Los_Angeles:20250912T120000
X-MICROSOFT-CDO-ALLDAYEVENT:FALSE
SUMMARY:Ribbon Cutting Ceremony celebrating the grand opening of PCC's Technology Innovation Space
DESCRIPTION:I hope you can join us for a Ribbon Cutting Ceremony celebrating the grand opening of the Technology Innovation Space at Portland Community College's Willow Creek Opportunity Center. This new space serves as a dynamic hub featuring the Teaching Cleanroom\, the Quick Start to Semiconducting Lab\, and the Artificial Intelligence Lab. Designed to inspire innovation and provide students and the community with hands-on access to emerging technologies.\nDate: Friday\, September 12\, 2025\nTime: 10:00 AM\nLocation: Willow Creek Opportunity Center\n241 SW Edgeway Drive\, Beaverton\, OR 97006A brief program and tours of the new spaces will follow the ribbon cutting. Please RSVP by August 29th to Megan Jarman at megan.jarman@pcc.edu.\nWe hope you will join PCC leadership\, community partners\, industry leaders as we mark this exciting milestone!
X-ALT-DESC;FMTTYPE=text/html:<!DOCTYPE html><html><head><title></title></head><body aria-disabled="false"><p style="margin-top:10.0pt\;margin-right:0in\;margin-bottom:0in\;margin-left:  0in\;">I hope you can join us for a Ribbon Cutting Ceremony celebrating the grand opening of the <strong fr-original-style="" style="font-weight: 700\;">Technology Innovation Space</strong> at Portland Community College&rsquo\;s Willow Creek Opportunity Center. This new space serves as a dynamic hub featuring the Teaching Cleanroom\, the Quick Start to Semiconducting Lab\, and the Artificial Intelligence Lab. Designed to inspire innovation and provide students and the community with hands-on access to emerging technologies.</p><p style="margin-top:10.0pt\;margin-right:0in\;margin-bottom:0in\;margin-left:  0in\;"><br></p><p style="margin:0in\;"><strong fr-original-style="" style="font-weight: 700\;">Date:</strong> Friday\, September 12\, 2025<br><strong fr-original-style="" style="font-weight: 700\;">Time:</strong> 10:00 AM<br><strong fr-original-style="" style="font-weight: 700\;">Location:</strong> Willow Creek Opportunity Center<br>241 SW Edgeway Drive\, Beaverton\, OR 97006</p><p style="margin:0in\;">A brief program and tours of the new spaces will follow the ribbon cutting. Please RSVP by August 29th to Megan Jarman at <a data-fr-linked="true" fr-original-style="" href="mailto:megan.jarman@pcc.edu" style="user-select: auto\;">megan.jarman@pcc.edu</a>.</p><p style="margin:0in\;"><br></p><p style="margin:0in\;">We hope you will join PCC leadership\, community partners\, industry leaders as we mark this exciting milestone!</p></body></html>
LOCATION:241 SW Edgeway Drive Beaverton OR 97006
UID:e.2009.1248479
SEQUENCE:3
DTSTAMP:20260423T201457Z
URL:https://community.portlandalliance.com/events/Details/ribbon-cutting-ceremony-celebrating-the-grand-opening-of-pcc-s-technology-innovation-space-1459636?sourceTypeId=Hub
END:VEVENT
END:VCALENDAR
