BEGIN:VCALENDAR
VERSION:2.0
PRODID:-//ChamberMaster//Event Calendar 2.0//EN
METHOD:PUBLISH
X-PUBLISHED-TTL:P1H
REFRESH-INTERVAL:P1H
CALSCALE:GREGORIAN
BEGIN:VTIMEZONE
TZID:America/Los_Angeles
BEGIN:DAYLIGHT
RRULE:FREQ=YEARLY;BYMONTH=3;BYDAY=2SU
DTSTART:20070101T000000
TZOFFSETFROM:-0800
TZOFFSETTO:-0700
TZNAME:Pacific Daylight Time
END:DAYLIGHT
BEGIN:STANDARD
RRULE:FREQ=YEARLY;BYMONTH=11;BYDAY=1SU
DTSTART:20070101T000000
TZOFFSETFROM:-0700
TZOFFSETTO:-0800
TZNAME:Pacific Standard Time
END:STANDARD
END:VTIMEZONE
BEGIN:VEVENT
DTSTART;TZID=America/Los_Angeles:20260514T180000
DTEND;TZID=America/Los_Angeles:20260514T210000
X-MICROSOFT-CDO-ALLDAYEVENT:FALSE
SUMMARY:FRIEND RAISER You Belong Here
DESCRIPTION:This year Friend Raiser will be on May 14\, 2026 @ The Redd! Friend Raiser is an iconic\, annual celebration of mentorship and philanthropy\, hosted on the second Thursday in May at The Redd on Salmon St. Buy tickets here
X-ALT-DESC;FMTTYPE=text/html:<!DOCTYPE html><html><head><title></title></head><body aria-disabled="false"><p>This year Friend Raiser will be on May 14\, 2026 @ The Redd!&nbsp\;</p><p>Friend Raiser is an iconic\, annual celebration of mentorship and philanthropy\, hosted on the second Thursday in May at The Redd on Salmon St.&nbsp\;</p><p><a fr-original-style="" href="https://www.friendraiserpdx.com/" rel="noopener noreferrer" style="user-select: auto\;" target="_blank"><strong fr-original-style="" style="font-weight: 700\;"><span style="font-size: 24px\;">Buy tickets here</span></strong></a></p></body></html>
LOCATION:831 SE Salmon St Portland OR 97214
UID:e.2009.1444641
SEQUENCE:3
DTSTAMP:20260422T222659Z
URL:https://community.portlandalliance.com/events/Details/friend-raiser-you-belong-here-1711054?sourceTypeId=Hub
END:VEVENT
END:VCALENDAR
