BEGIN:VCALENDAR
VERSION:2.0
PRODID:-//ChamberMaster//Event Calendar 2.0//EN
METHOD:PUBLISH
X-PUBLISHED-TTL:P1H
REFRESH-INTERVAL:P1H
CALSCALE:GREGORIAN
BEGIN:VTIMEZONE
TZID:America/Los_Angeles
BEGIN:DAYLIGHT
RRULE:FREQ=YEARLY;BYMONTH=3;BYDAY=2SU
DTSTART:20070101T000000
TZOFFSETFROM:-0800
TZOFFSETTO:-0700
TZNAME:Pacific Daylight Time
END:DAYLIGHT
BEGIN:STANDARD
RRULE:FREQ=YEARLY;BYMONTH=11;BYDAY=1SU
DTSTART:20070101T000000
TZOFFSETFROM:-0700
TZOFFSETTO:-0800
TZNAME:Pacific Standard Time
END:STANDARD
END:VTIMEZONE
BEGIN:VEVENT
DTSTART;TZID=America/Los_Angeles:20260430T073000
DTEND;TZID=America/Los_Angeles:20260430T090000
X-MICROSOFT-CDO-ALLDAYEVENT:FALSE
SUMMARY:Business Leaders Breakfast
DESCRIPTION:You're invited you to attend the Alzheimer’s Association Business Leaders Breakfast on April 30th at the Oregon Zoo.\n \nThis event convenes leaders from across the Portland Metro for a thoughtful discussion on the impact of Alzheimer’s in our community and the future of aging and brain health in Oregon - especially in the workforce. You’ll connect with business leaders from a wide range of industries while hearing updates on the latest research and local initiatives driving progress.\n \nTo reserve your plate for a delicious\, warm breakfast\, go to https://forms.gle/XGcQoxWE38X6bnJC8 or email Kendra at kehuddleston@alz.org if you or a member of your team plans to attend. RSVP's are required! We would be delighted to have you join us for this meaningful morning.
X-ALT-DESC;FMTTYPE=text/html:You're invited you to attend the Alzheimer’s Association Business Leaders Breakfast on April 30th at the Oregon Zoo.\n \nThis event convenes leaders from across the Portland Metro for a thoughtful discussion on the impact of Alzheimer’s in our community and the future of aging and brain health in Oregon - especially in the workforce. You’ll connect with business leaders from a wide range of industries while hearing updates on the latest research and local initiatives driving progress.\n \nTo reserve your plate for a delicious\, warm breakfast\, go to https://forms.gle/XGcQoxWE38X6bnJC8 or email Kendra at kehuddleston@alz.org if you or a member of your team plans to attend. RSVP's are required! We would be delighted to have you join us for this meaningful morning.
LOCATION:4001 SW Canyon Rd Portland OR 97221
UID:e.2009.1445927
SEQUENCE:3
DTSTAMP:20260422T222725Z
URL:https://community.portlandalliance.com/events/Details/business-leaders-breakfast-1712639?sourceTypeId=Hub
END:VEVENT
END:VCALENDAR
