BEGIN:VCALENDAR
VERSION:2.0
PRODID:-//ChamberMaster//Event Calendar 2.0//EN
METHOD:PUBLISH
X-PUBLISHED-TTL:P1H
REFRESH-INTERVAL:P1H
CALSCALE:GREGORIAN
BEGIN:VTIMEZONE
TZID:America/Los_Angeles
BEGIN:DAYLIGHT
RRULE:FREQ=YEARLY;BYMONTH=3;BYDAY=2SU
DTSTART:20070101T000000
TZOFFSETFROM:-0800
TZOFFSETTO:-0700
TZNAME:Pacific Daylight Time
END:DAYLIGHT
BEGIN:STANDARD
RRULE:FREQ=YEARLY;BYMONTH=11;BYDAY=1SU
DTSTART:20070101T000000
TZOFFSETFROM:-0700
TZOFFSETTO:-0800
TZNAME:Pacific Standard Time
END:STANDARD
END:VTIMEZONE
BEGIN:VEVENT
DTSTART;TZID=America/Los_Angeles:20260507T163000
DTEND;TZID=America/Los_Angeles:20260507T193000
X-MICROSOFT-CDO-ALLDAYEVENT:FALSE
SUMMARY:NextNW’s Extremely Happy Hour at 1338 Tryon
DESCRIPTION:NextNW’s May Extremely Happy Happy Hour (#EHHH) is coming to Northwest Portland\, hosted by 1338Tryon\, a woman-owned\, B Corp certified tangible engagement agency that helps brands create meaningful moments through thoughtfully designed branded merchandise and experiences.\n\nThis special edition of #EHHH brings together marketing leaders\, brand strategists\, creative professionals\, and industry partners for an evening of connection\, inspiration\, and a few surprises along the way.\n\nIf you work in brand\, events\, marketing\, or experiential programs\, this is a great opportunity to meet others thinking about how branded merchandise supports campaigns\, culture\, and memorable brand moments.\n\nExpect a relaxed environment with good humans\, refreshing beverages\, and hands-on experiences that show how thoughtfully designed merch can spark brand fandom.
X-ALT-DESC;FMTTYPE=text/html:NextNW’s May Extremely Happy Happy Hour (#EHHH) is coming to Northwest Portland\, hosted by 1338Tryon\, a woman-owned\, B Corp certified tangible engagement agency that helps brands create meaningful moments through thoughtfully designed branded merchandise and experiences.\n\nThis special edition of #EHHH brings together marketing leaders\, brand strategists\, creative professionals\, and industry partners for an evening of connection\, inspiration\, and a few surprises along the way.\n\nIf you work in brand\, events\, marketing\, or experiential programs\, this is a great opportunity to meet others thinking about how branded merchandise supports campaigns\, culture\, and memorable brand moments.\n\nExpect a relaxed environment with good humans\, refreshing beverages\, and hands-on experiences that show how thoughtfully designed merch can spark brand fandom.
LOCATION:2250 NW 22nd Ave Suite 401 Portland OR 97210
UID:e.2009.1449870
SEQUENCE:3
DTSTAMP:20260426T001321Z
URL:https://community.portlandalliance.com/events/Details/nextnw-s-extremely-happy-hour-at-1338-tryon-1717373?sourceTypeId=Hub
END:VEVENT
END:VCALENDAR
