BEGIN:VCALENDAR
VERSION:2.0
PRODID:-//ChamberMaster//Event Calendar 2.0//EN
METHOD:PUBLISH
X-PUBLISHED-TTL:P1H
REFRESH-INTERVAL:P1H
CALSCALE:GREGORIAN
BEGIN:VTIMEZONE
TZID:America/Los_Angeles
BEGIN:DAYLIGHT
RRULE:FREQ=YEARLY;BYMONTH=3;BYDAY=2SU
DTSTART:20070101T000000
TZOFFSETFROM:-0800
TZOFFSETTO:-0700
TZNAME:Pacific Daylight Time
END:DAYLIGHT
BEGIN:STANDARD
RRULE:FREQ=YEARLY;BYMONTH=11;BYDAY=1SU
DTSTART:20070101T000000
TZOFFSETFROM:-0700
TZOFFSETTO:-0800
TZNAME:Pacific Standard Time
END:STANDARD
END:VTIMEZONE
BEGIN:VEVENT
DTSTART;TZID=America/Los_Angeles:20260505T170000
DTEND;TZID=America/Los_Angeles:20260505T190000
X-MICROSOFT-CDO-ALLDAYEVENT:FALSE
SUMMARY:Community Conversations hosted by United Way of the Columbia-Willamette: Housing Stability
DESCRIPTION:Housing stability is one of the most urgent issues facing families in our community. When families lose housing\, everything else becomes harder.\n\nJoin United Way of the Columbia-Willamette at kiln for a Community Conversation about how our local programs and partnerships are working to help families stay safely housed and regain stability. We hope you’ll join us for a thoughtful conversation\, connect with others who care about this work.\n\nLight food and beverages will be provided.
X-ALT-DESC;FMTTYPE=text/html:Housing stability is one of the most urgent issues facing families in our community. When families lose housing\, everything else becomes harder.\n\nJoin United Way of the Columbia-Willamette at kiln for a Community Conversation about how our local programs and partnerships are working to help families stay safely housed and regain stability. We hope you’ll join us for a thoughtful conversation\, connect with others who care about this work.\n\nLight food and beverages will be provided.
LOCATION:1120 SE Madison St Portland OR 97214
UID:e.2009.1451039
SEQUENCE:3
DTSTAMP:20260426T001444Z
URL:https://community.portlandalliance.com/events/Details/community-conversations-hosted-by-united-way-of-the-columbia-willamette-housing-stability-1718736?sourceTypeId=Hub
END:VEVENT
END:VCALENDAR
