BEGIN:VCALENDAR
VERSION:2.0
PRODID:-//ChamberMaster//Event Calendar 2.0//EN
METHOD:PUBLISH
X-PUBLISHED-TTL:P1H
REFRESH-INTERVAL:P1H
CALSCALE:GREGORIAN
BEGIN:VTIMEZONE
TZID:America/Los_Angeles
BEGIN:DAYLIGHT
RRULE:FREQ=YEARLY;BYMONTH=3;BYDAY=2SU
DTSTART:20070101T000000
TZOFFSETFROM:-0800
TZOFFSETTO:-0700
TZNAME:Pacific Daylight Time
END:DAYLIGHT
BEGIN:STANDARD
RRULE:FREQ=YEARLY;BYMONTH=11;BYDAY=1SU
DTSTART:20070101T000000
TZOFFSETFROM:-0700
TZOFFSETTO:-0800
TZNAME:Pacific Standard Time
END:STANDARD
END:VTIMEZONE
BEGIN:VEVENT
DTSTART;TZID=America/Los_Angeles:20260825T170000
DTEND;TZID=America/Los_Angeles:20260825T190000
X-MICROSOFT-CDO-ALLDAYEVENT:FALSE
SUMMARY:EPOP Last Tuesday at OLSHF
DESCRIPTION:EPOP is a program that offers emerging professionals a place to prosper and develop their careers\, build a peer network\, and gain exposure to business leaders. EPOP offers programming focused on educational and professional development\, as well as civic engagement and networking opportunities.This month join us at Oregon Lions Sight & Hearing Foundation.The Oregon Lions Sight & Hearing Foundation (OLSHF)'s mission is to Screen\, Treat\, Save\, and Restore sight and hearing in partnership with Lions Clubs. Since 1959\, OLSHF has taken an active role in protecting the health of Oregonians. Through seven direct service programs related to sight\, hearing\, and health assistance\, the Foundation has transformed the lives of hundreds of thousands of children and adults in our state. We offer consistent access and critical health solutions to the most vulnerable members of our community who are uninsured or under-insured. We believe it is crucial to reach out to under-served populations\, particularly where geography\, language\, or cultural barriers may present challenges to accessing preventative care and appropriate follow-up.
X-ALT-DESC;FMTTYPE=text/html:<!DOCTYPE html><html><head><title></title></head><body aria-disabled="false"><p><span style="font-family: Arial\, Helvetica\, sans-serif\; font-size: 18px\;">EPOP is a program that offers emerging professionals a place to prosper and develop their careers\, build a peer network\, and gain exposure to business leaders. EPOP offers programming focused on educational and professional development\, as well as civic engagement and networking opportunities.</span></p><p><span style="font-family: Arial\, Helvetica\, sans-serif\; font-size: 18px\;">This month join us at Oregon Lions Sight &amp\; Hearing Foundation.</span></p><p style="mso-margin-top-alt:auto\;mso-margin-bottom-alt:auto\;"><span style="font-family: Arial\, Helvetica\, sans-serif\; font-size: 18px\;">The Oregon Lions Sight &amp\; Hearing Foundation (OLSHF)&#39\;s mission is to <em>Screen\, Treat\, Save\,&nbsp\;</em>and <em>Restore</em> sight and hearing in partnership with Lions Clubs. Since 1959\, OLSHF has taken an active role in protecting the health of Oregonians. Through seven direct service programs related to sight\, hearing\, and health assistance\, the Foundation has transformed the lives of hundreds of thousands of children and adults in our state. We offer consistent access and critical health solutions to the most vulnerable members of our community who are uninsured or under-insured. We believe it is crucial to reach out to under-served populations\, particularly where geography\, language\, or cultural barriers may present challenges to accessing preventative care and appropriate follow-up.</span></p><p><br></p><p style="margin:0in\;"><br></p><p><br></p><p><br></p><p><br></p></body></html>
LOCATION:1010 NW 22nd Ave\, #144 Portland OR 97210
UID:e.2009.1449536
SEQUENCE:3
DTSTAMP:20260425T205153Z
URL:https://community.portlandalliance.com/events/Details/epop-last-tuesday-at-olshf-1716985?sourceTypeId=Hub
END:VEVENT
END:VCALENDAR
